BEGIN:VCALENDAR
VERSION:2.0
PRODID:-//hacksw/handcal//NONSGML v1.0//EN
BEGIN:VEVENT
DTSTART:20260504T190000
DTEND:20260504T210000
LOCATION:ISC Paris \n10-12, Rue Victor Hugo \n92300 LEVALLOIS-PERRET
ORGANIZER;CN=Ons Bougacha:MAILTO:ons.bougacha@iscparis-alumni.com
SUMMARY:Conférence Exceptionnelle avec David Foenkinos !
DESCRIPTION:En partenariat avec le CGBB - Cercle des Gens Bien & Bienveillants, nous aurons le plaisir et le privilège d’accueillir le célèbre écrivain David Foenkinos, venu présenter son dernier ouvrage Je suis ...
URL:https://www.iscparis-alumni.com/fr/event/conference-exceptionnelle-avec-david-foenkinos/2026/05/04/1206
BEGIN:VALARM
TRIGGER:-P0DT1H0M0S
ACTION:DISPLAY
END:VALARM
END:VEVENT
END:VCALENDAR