BEGIN:VCALENDAR
VERSION:2.0
PRODID:-//hacksw/handcal//NONSGML v1.0//EN
BEGIN:VEVENT
DTSTART:20260108T190000
DTEND:20260108T210000
LOCATION:ISC Paris \n10-12, Rue Victor Hugo \n92300 LEVALLOIS-PERRET
ORGANIZER;CN=Ons Bougacha:MAILTO:ons.bougacha@iscparis-alumni.com
SUMMARY:Conférence : Charles Pépin – Où trouver la force ?
DESCRIPTION:Où trouver la force ? Et tant d’autres questions essentielles…Faut-il être dur pour réussir ? La routine est-elle forcément un piège ? Peut-on réellement changer les autres ? L’herbe est-elle vraiment...
URL:https://www.iscparis-alumni.com/fr/event/conference-charles-pepin-ou-trouver-la-force/2026/01/08/1197
BEGIN:VALARM
TRIGGER:-P0DT1H0M0S
ACTION:DISPLAY
END:VALARM
END:VEVENT
END:VCALENDAR